BEGIN:VCALENDAR
VERSION:2.0
PRODID:-//ChamberMaster//Event Calendar 2.0//EN
METHOD:PUBLISH
X-PUBLISHED-TTL:P3D
REFRESH-INTERVAL:P3D
CALSCALE:GREGORIAN
BEGIN:VEVENT
DTSTART:20180505T140000Z
DTEND:20180505T200000Z
X-MICROSOFT-CDO-ALLDAYEVENT:FALSE
SUMMARY:Truman Day 2018
DESCRIPTION:Yearly celebration of the birth of Harry S. Truman. Join us and 50+ vendors at the Truman Birthplace Historical Site for reenactments\, Living History\, games and entertainment.\n\n \nSCHEDULE OF EVENTS\n\n=====================================\n\n7:00 am Registration for Run\n\n8:00 am 5K Run Starts at  Lamar Family Ministries Center 1108 Gulf Street\n\n\n\nOn The Stage at the Truman Birthplace \n\n9:00 am The Tiny Dancer Studio\n\n9:45 am MSSU Jazz Band\n\n 10:30 am Baby and Toddler Show\n\n11:00 am MSSU Jazz Band\n\n12:15 pm Star Spangle Banner\,Color Guard\n\n12:30 pm Truman Birthplace Public Meeting\n\n12:45 pm Harry S. Truman Impersonator ~ Ray Starzmann as Harry S Truman and Cake to celebrate Harry S Truman's 134th Birthday\n\n1:00  pm Lamar Recreation announce Summer League T-Ball\, Baseball and Softball Teams\n\n1:30 pm. Lamar Middle School Choir\, Soloist performance\n\n2:00 pm Picker Post Band\n\n\n\nBABY & TODDLER SHOW DETAILS\n\n10:30 a.m. Baby and Toddler Show\n\nFlyer\n\n \n\nTruman Day Run Detials ~ Presented by The Grind Coffee Shop\n\nTo Register for the Run: https://www.active.com/lamar-mo/running/distance-running-races/lamar-truman-day-run-2018\n\n\n\n1 Mile Walk - 5K Walk / Run\n\nRegistration Opens at 7:00 am\n\n8:00 am - 9:00 am
X-ALT-DESC;FMTTYPE=text/html:Yearly celebration of the birth of Harry S. Truman. Join us and 50+ vendors at the Truman Birthplace Historical Site for reenactments\, Living History\, games and entertainment.<br />\n&nbsp\;\n<p style="color: rgb(51\, 51\, 51)\; font-family: sans-serif\, Arial\, Verdana\, &quot\;Trebuchet MS&quot\;\; font-size: 13px\;"><strong style="font-family: sans-serif\, Arial\, Verdana\, &quot\;Trebuchet MS&quot\;\; font-size: 13px\; background-color: rgb(255\, 255\, 255)\; color: rgb(0\, 0\, 205)\;">SCHEDULE OF EVENTS</strong><br />\n<strong><span style="color: rgb(105\, 105\, 105)\;">=====================================</span></strong><br />\n7:00 am Registration for Run<br />\n8:00 am 5K Run Starts at&nbsp\; Lamar&nbsp\;Family Ministries&nbsp\;Center 1108 Gulf Street<br />\n<br />\n<strong>On The Stage at the Truman Birthplace&nbsp\;</strong><br />\n9:00 am The Tiny Dancer Studio<br />\n9:45 am&nbsp\;MSSU&nbsp\;Jazz Band<br />\n&#8203\;10:30 am Baby and Toddler Show<br />\n11:00 am&nbsp\;MSSU&nbsp\;Jazz Band<br />\n12:15 pm Star Spangle Banner\,Color Guard<br />\n1<span style="font-size:14px\;">2:30 pm Truman Birthplace Public Meeting<br />\n12:45 pm Harry S. Truman Impersonator</span> <span style="font-size:12px\;">~ Ray&nbsp\;Starzmann&nbsp\;as Harry S Truman and Cake to celebrate Harry S Truman&rsquo\;s&nbsp\;134th&nbsp\;Birthday</span><br />\n1:00&nbsp\; pm Lamar Recreation announce Summer League T-Ball\, Baseball and Softball Teams<br />\n1:30 pm. Lamar Middle School Choir\, Soloist performance<br />\n2:00 pm Picker Post Band</p>\n\n<div style="color: rgb(51\, 51\, 51)\; font-family: sans-serif\, Arial\, Verdana\, &quot\;Trebuchet MS&quot\;\; font-size: 13px\;"><br />\n<span style="line-height: 20.8px\; color: rgb(0\, 0\, 205)\;"><strong>BABY &amp\;&nbsp\;TODDLER SHOW&nbsp\;DETAILS</strong></span><br />\n10:30 a.m. Baby and Toddler Show<br />\n<a href="https://chambermaster.blob.core.windows.net/userfiles/UserFiles/chambers/2297/File/2018-Truman-Day-Baby-and-Toddler-Show-Flyer.jpg"><span style="color:#FF0000\;"><strong>Flyer</strong></span></a><br style="line-height: 20.8px\;" />\n<font color="#4e5665" face="helvetica\, arial\, sans-serif"><span style="font-size: 14px\;">&nbsp\;</span></font></div>\n\n<p style="margin: 0px 0px 6px\; font-family: helvetica\, arial\, sans-serif\; font-size: 14px\; line-height: 19.32px\;"><span style="color:#0000CD\;"><span style="font-size:14px\;"><strong>Truman Day Run Detials&nbsp\;~ Presented by The Grind Coffee Shop</strong></span></span><br />\nTo Register for the Run:&nbsp\;<a href="https://www.active.com/lamar-mo/running/distance-running-races/lamar-truman-day-run-2018">https://www.active.com/lamar-mo/running/distance-running-races/lamar-truman-day-run-2018</a><br />\n<br />\n<font color="#696969">1 Mile Walk - 5K Walk / Run<br />\nRegistration Opens at 7:00 am<br />\n8:00 am - 9:00 am</font></p>\n
LOCATION:Truman Birthplace Historic Site 1009 Truman St\, Lamar\, MO 64759
UID:e.2297.295
SEQUENCE:3
DTSTAMP:20260424T050956Z
URL:https://business.bartoncounty.com/events/details/truman-day-2018-295
END:VEVENT

END:VCALENDAR
