BEGIN:VCALENDAR
VERSION:2.0
PRODID:-//ChamberMaster//Event Calendar 2.0//EN
METHOD:PUBLISH
X-PUBLISHED-TTL:P3D
REFRESH-INTERVAL:P3D
CALSCALE:GREGORIAN
BEGIN:VEVENT
DTSTART:20260402T203000Z
DTEND:20260402T220000Z
X-MICROSOFT-CDO-ALLDAYEVENT:FALSE
SUMMARY:Round up for Eggs ~ Easter Egg Hunt Wyatt Earp Park
DESCRIPTION:
X-ALT-DESC;FMTTYPE=text/html:
LOCATION:
UID:e.2297.590
SEQUENCE:3
DTSTAMP:20260423T205714Z
URL:https://business.bartoncounty.com/events/details/round-up-for-eggs-easter-egg-hunt-wyatt-earp-park-590
END:VEVENT

END:VCALENDAR
