BEGIN:VCALENDAR
VERSION:2.0
PRODID:-//ChamberMaster//Event Calendar 2.0//EN
METHOD:PUBLISH
X-PUBLISHED-TTL:P3D
REFRESH-INTERVAL:P3D
CALSCALE:GREGORIAN
BEGIN:VEVENT
DTSTART:20180929T150000Z
DTEND:20180929T210000Z
X-MICROSOFT-CDO-ALLDAYEVENT:FALSE
SUMMARY:Prairie Jubilee
DESCRIPTION:Come celebrate the tallgrass prairie at Prairie State Park. Take part in activities such as a living history loop\, where visitors can interact with interpreters and others to learn what it was like to live on the prairie. Listen to live music and the sounds of the prairie. Take a ride out to see the bison and enjoy trying some bison for lunch. Visit with people from other organizations and agencies that partner to help protect and preserve the tallgrass prairie. This event is sponsored by Missouri State Parks.
X-ALT-DESC;FMTTYPE=text/html:Come celebrate the tallgrass prairie at Prairie State Park. Take part in activities such as a living history loop\, where visitors can interact with interpreters and others to learn what it was like to live on the prairie. Listen to live music and the sounds of the prairie. Take a ride out to see the bison and enjoy trying some bison for lunch. Visit with people from other organizations and agencies that partner to help protect and preserve the tallgrass prairie. This event is sponsored by Missouri State Parks.
LOCATION:Prairie State Park 128 NW 150th Lane\, Mindenmines\, MO 64769 From Lamar\, drive to Liberal and head west to use north entrance of park
UID:e.2297.309
SEQUENCE:3
DTSTAMP:20260423T220847Z
URL:https://business.bartoncounty.com/events/details/prairie-jubilee-309
END:VEVENT

END:VCALENDAR
