BEGIN:VCALENDAR
VERSION:2.0
PRODID:-//ChamberMaster//Event Calendar 2.0//EN
METHOD:PUBLISH
X-PUBLISHED-TTL:P3D
REFRESH-INTERVAL:P3D
CALSCALE:GREGORIAN
BEGIN:VEVENT
DTSTART:20190328T164500Z
DTEND:20190328T180000Z
X-MICROSOFT-CDO-ALLDAYEVENT:FALSE
SUMMARY:Lunch & Learn: Rural Strong - Powering Rural Small Business
DESCRIPTION:This event is designed to inform entrepreneurs\, small business owners and community organizations about the federal lending programs and resources powered by the SBA\, USDA\, and Missouri SBDC.\n\n\n\nUSDA\n\n	Business and Industry Guaranteed Loan Program\n	Rural Energy for America Program\n	\n		James Combs\, Business Program Specialist\n		Makeesha Munro\, Business Program Specialist\n		Rural Development\, United States Department of Agriculture\n	\n	\n\nSBA\n\n\n	Loan Programs\n	Credit Building\n	\n		Don Reese\, Branch Manager\, Springfield Missouri Branch Office\n		Lisa Zimmerman\, Lender Relations Specialist\, Springfield Missouri Branch Office\n		U.S. Small Business Administration\n	\n	\n\nAmerica's SBDC Missouri\n\n\n	Ken Surbrugg\, Consultant - Missouri Southern State University's Small Business Development Center
X-ALT-DESC;FMTTYPE=text/html:This event is designed to inform entrepreneurs\, small business owners and community organizations about the federal lending programs and resources powered by the SBA\, USDA\, and Missouri SBDC.<br />\n<br />\n<strong>USDA</strong>\n<ul>\n	<li>Business and Industry Guaranteed Loan Program</li>\n	<li>Rural Energy for America Program\n	<ul>\n		<li>James Combs\, Business Program Specialist</li>\n		<li>Makeesha Munro\, Business Program Specialist</li>\n		<li>Rural Development\, United States Department of Agriculture</li>\n	</ul>\n	</li>\n</ul>\n<strong>SBA</strong>\n\n<ul>\n	<li>Loan Programs</li>\n	<li>Credit Building\n	<ul>\n		<li>Don Reese\, Branch Manager\, Springfield Missouri Branch Office</li>\n		<li>Lisa Zimmerman\, Lender Relations Specialist\, Springfield Missouri Branch Office</li>\n		<li>U.S. Small Business Administration</li>\n	</ul>\n	</li>\n</ul>\n<strong>America&rsquo\;s SBDC Missouri</strong>\n\n<ul>\n	<li>Ken Surbrugg\, Consultant - Missouri Southern State University&rsquo\;s Small Business Development Center</li>\n</ul>\n<br />\n&nbsp\;
LOCATION:Barton County Ambulance Building
UID:e.2297.333
SEQUENCE:3
DTSTAMP:20260423T112659Z
URL:https://business.bartoncounty.com/events/details/lunch-learn-rural-strong-powering-rural-small-business-333
END:VEVENT

END:VCALENDAR
