BEGIN:VCALENDAR
VERSION:2.0
PRODID:-//ChamberMaster//Event Calendar 2.0//EN
METHOD:PUBLISH
X-PUBLISHED-TTL:P3D
REFRESH-INTERVAL:P3D
CALSCALE:GREGORIAN
BEGIN:VEVENT
DTSTART:20260403T220000Z
DTEND:20260404T010000Z
X-MICROSOFT-CDO-ALLDAYEVENT:FALSE
SUMMARY:Lamar Cruise Night April 3
DESCRIPTION:Lamar Cruise Night April 4 -- Cars and Trucks Unite We Will be awarding 6 Trophies. Top 3 Cars - Top 3 Trucks\n\nCruise night committee will be serving Chili Pie
X-ALT-DESC;FMTTYPE=text/html:Lamar Cruise Night April 4 -- Cars and Trucks Unite We Will be awarding 6 Trophies. Top 3 Cars - Top 3 Trucks<br />\nCruise night committee will be serving Chili Pie<br />\n&nbsp\;
LOCATION:
UID:e.2297.573
SEQUENCE:3
DTSTAMP:20260423T192132Z
URL:https://business.bartoncounty.com/events/details/lamar-cruise-night-april-3-573
END:VEVENT

END:VCALENDAR
