BEGIN:VCALENDAR
VERSION:2.0
PRODID:-//ChamberMaster//Event Calendar 2.0//EN
METHOD:PUBLISH
X-PUBLISHED-TTL:P3D
REFRESH-INTERVAL:P3D
CALSCALE:GREGORIAN
BEGIN:VEVENT
DTSTART:20171207T220000Z
DTEND:20171208T020000Z
X-MICROSOFT-CDO-ALLDAYEVENT:FALSE
SUMMARY:Home for the Holidays Christmas Parade & Jingle Mingle 2017
DESCRIPTION:HOME FOR THE HOLIDAYS CHRISTMAS PARADE\n\nCome out to enjoy our annual Lighted Christmas Parade ending with Santa's arrival at Memorial Hall where he & Mrs. Claus will meet with area children and hear their Christmas wishes!  \n\n\n\nParade participation DOES NOT REQUIRE REGISTRATION simply show up at Moore Pavilion by 5:30 pm to line up.   Parade  begins at 6:00 pm.  Please remember\, this is a LIGHTED parade. Your float won't be seen without lights so come prepared!\n\n\n\nBEST CHRISTMAS PAGEANT EVER - 7:30 pm at Thiebaud Auditorium - Tickets are $5 and can be purchased in advance at Barton County Chamber or at the door. \n\n\n\nJINGLE MINGLE\n\nAlso - be sure not to miss this year's "Jingle Mingle" a great chance to do some Christmas shopping with some of our Chamber Members as well & keep your money HOME (local) for the holidays!\n\n\nRegister now to take part in the Jingle Mingle!  Details on how you can participate are located in our downloadable pdf \n\nCLICK HERE
X-ALT-DESC;FMTTYPE=text/html:<p><span style="color:#FF0000\;"><strong>HOME FOR THE HOLIDAYS CHRISTMAS PARADE</strong></span><br />\nCome out to enjoy our annual Lighted Christmas Parade ending with Santa&#39\;s arrival at Memorial Hall where he &amp\; Mrs. Claus will meet with area children and hear their Christmas wishes! &nbsp\;<br />\n<br />\nParade participation DOES NOT REQUIRE REGISTRATION simply show up at Moore Pavilion by 5:30 pm to line up. &nbsp\; Parade &nbsp\;begins at 6:00 pm. &nbsp\;Please remember\, this is a LIGHTED parade. Your float won&#39\;t be seen without lights so come prepared!<br />\n<br />\n<span style="color:#0000FF\;"><strong>BEST CHRISTMAS&nbsp\;PAGEANT&nbsp\;EVER&nbsp\;</strong></span><strong>-&nbsp\;7:30 pm at&nbsp\;</strong>Thiebaud Auditorium -&nbsp\;<span style="font-family:calibri\,sans-serif\;"><span style="font-size:11.0pt\;">Tickets are $5 and can be purchased in advance&nbsp\;</span></span>at Barton County Chamber or at the door.&nbsp\;<br />\n<br />\n<span style="color:#008000\;"><strong>JINGLE MINGLE</strong></span><br />\nAlso - be sure not to miss this year&#39\;s &quot\;Jingle Mingle&quot\; a great chance to do some Christmas shopping with some of our Chamber Members as well &amp\; keep your money HOME (local) for the holidays!</p>\n\n<div style="background:#eee\;border:1px solid #ccc\;padding:5px 10px\;">\n<p style="text-align: center\;">Register now to take part in the Jingle Mingle! &nbsp\;Details on how you can participate&nbsp\;are located in our downloadable pdf&nbsp\;<br />\n<a href="https://chambermaster.blob.core.windows.net/userfiles/UserFiles/chambers/2297/File/jingle_mingle_2017.pdf"><strong>CLICK HERE</strong></a></p>\n</div>\n\n<p>&nbsp\;</p>\n
LOCATION:Constitution Square Downtown Lamar\, MO
UID:e.2297.252
SEQUENCE:3
DTSTAMP:20260424T131351Z
URL:https://business.bartoncounty.com/events/details/home-for-the-holidays-christmas-parade-jingle-mingle-2017-252
END:VEVENT

END:VCALENDAR
