BEGIN:VCALENDAR
VERSION:2.0
PRODID:-//ChamberMaster//Event Calendar 2.0//EN
METHOD:PUBLISH
X-PUBLISHED-TTL:P3D
REFRESH-INTERVAL:P3D
CALSCALE:GREGORIAN
BEGIN:VEVENT
DTSTART;VALUE=DATE:20230922
DTEND;VALUE=DATE:20230924
TRANSP:TRANSPARENT
X-MICROSOFT-CDO-ALLDAYEVENT:TRUE
SUMMARY:Fall City-Wide Garage Sale 2023
DESCRIPTION:The Lamar Democrat will publish the FALL CITYWIDE GARAGE SALE LISTING which will be held Friday\, Sept. 22 & Saturday\, Sept. 23.\n\n\n\nTo advertise your garage sale in the Lamar Democrat Sept 20th edition.\n\nDownload the form\, mail to P.O. Box 12\, Lamar\, MO 64759 ... or Sale ad information and payment may also be dropped off at our office at 100 E. 11th Street\, emailed to advertising@lamardemocrat.com or call 417-417-NEWS (6397) with any questions or to pay over the phone.
X-ALT-DESC;FMTTYPE=text/html:The Lamar Democrat will publish the FALL CITYWIDE GARAGE SALE LISTING which will be held Friday\, Sept. 22 &amp\; Saturday\, Sept. 23.<br />\n<br />\nTo advertise your garage sale in the Lamar Democrat Sept 20th edition.<br />\n<a href="https://files.constantcontact.com/f7fcf32b301/33e37d15-2b0a-4a90-9285-0da976f49f98.pdf">Download the form</a>\, mail to P.O. Box 12\, Lamar\, MO 64759 ... or Sale ad information and payment may also be dropped off at our office at 100 E. 11th Street\, emailed to advertising@lamardemocrat.com or call 417-417-NEWS (6397) with any questions or to pay over the phone.
LOCATION:City of Lamar\, MO
UID:e.2297.425
SEQUENCE:3
DTSTAMP:20260425T020059Z
URL:https://business.bartoncounty.com/events/details/fall-city-wide-garage-sale-2023-425
END:VEVENT

END:VCALENDAR
