BEGIN:VCALENDAR
VERSION:2.0
PRODID:-//ChamberMaster//Event Calendar 2.0//EN
METHOD:PUBLISH
X-PUBLISHED-TTL:P3D
REFRESH-INTERVAL:P3D
CALSCALE:GREGORIAN
BEGIN:VEVENT
DTSTART:20181108T134500Z
DTEND:20181108T150000Z
X-MICROSOFT-CDO-ALLDAYEVENT:FALSE
SUMMARY:Chamber Quarterly Membership Meeting ~ November 8th
DESCRIPTION:One thing we know how to do in Lamar is to stay strong in the fourth quarter!  The Barton County Chamber of Commerce last quarterly breakfast of the year will consist of three short & focused presentations from a few of our local chamber members. \n\n\n\nSNC Squared Technology Group will be sharing helpful tips to keep your "security strong" in this complex cyber world. The MU Extension will be focusing on keeping your "body strong" in the workplace.  \n\nLastly\, as a member of chamber family\, you can access a new insurance program provided through the Missouri Chamber of Commerce\, this presentation will give you direction on affordable group insurance to keep your "team strong" by offering insurance in your workplace.\n\n\n\nJoin us for breakfast & networking....Finish 2018 Strong!
X-ALT-DESC;FMTTYPE=text/html:<br />\nOne thing we know how to do in Lamar is to stay strong in the fourth quarter!&nbsp\; The Barton County Chamber of Commerce last quarterly breakfast of the year will consist of three short &amp\; focused presentations from a few of our local chamber members.&nbsp\;<br />\n<br />\n<strong>SNC Squared Technology Group</strong> will be sharing helpful tips to keep your<strong> </strong><strong><em>&ldquo\;security strong&rdquo\;</em> </strong>in this complex cyber world. The<strong> MU Extension </strong>will be focusing on keeping your<em><strong> &ldquo\;body strong&rdquo\;</strong></em> in the workplace. &nbsp\;<br />\nLastly\, as a member of chamber family\, you can access a new insurance program provided through the <strong>Missouri Chamber of Commerce\,</strong> this presentation will give you direction on affordable group insurance to keep your <em><strong>&ldquo\;team strong&rdquo\;</strong></em> by offering insurance in your workplace.<br />\n<br />\nJoin us for breakfast &amp\; networking....<em><strong>Finish 2018 Strong!&nbsp\;</strong></em><br />\n<br />\n&nbsp\;<br />\n<br />\n<br />\n&nbsp\;
LOCATION:Barton County Ambulance District Conference Room 1100 Cherry Street Lamar\, MO 64759
UID:e.2297.306
SEQUENCE:3
DTSTAMP:20260423T184624Z
URL:https://business.bartoncounty.com/events/details/chamber-quarterly-membership-meeting-november-8th-306
END:VEVENT

END:VCALENDAR
