BEGIN:VCALENDAR
VERSION:2.0
PRODID:-//ChamberMaster//Event Calendar 2.0//EN
METHOD:PUBLISH
X-PUBLISHED-TTL:P3D
REFRESH-INTERVAL:P3D
CALSCALE:GREGORIAN
BEGIN:VEVENT
DTSTART:20260409T161500Z
DTEND:20260409T181500Z
X-MICROSOFT-CDO-ALLDAYEVENT:FALSE
SUMMARY:2026 Awards Luncheon
DESCRIPTION:Join area business leaders on April 9 at 11:30 am for a delicious lunch & exciting awards show.  Come ready to network and socialize with friends\, neighbors\, community leaders & celebrate the very best in Barton County!\n\n\n\nWhat to Wear: \n\nBusiness Casual\n\n\n\n\n2024 Nominees:
X-ALT-DESC;FMTTYPE=text/html:<div class="row">\n<div class="col-md-12">Join area business leaders on April 9 at 11:30 am for a delicious lunch &amp\; exciting awards show.&nbsp\; Come ready to network and socialize with friends\, neighbors\, community leaders &amp\; celebrate the very best in Barton County!<br />\n<br />\n<strong>What to Wear:&#8203\;</strong><br />\nBusiness Casual\n<hr /></div>\n</div>\n\n<div class="row">\n<div class="col-md-8" style="text-align: center\;"><span style="font-size:20px\;"><strong>2024 Nominees:</strong></span></div>\n</div>\n
LOCATION:
UID:e.2297.562
SEQUENCE:3
DTSTAMP:20260423T192416Z
URL:https://business.bartoncounty.com/events/details/2026-awards-luncheon-562
END:VEVENT

END:VCALENDAR
