BEGIN:VCALENDAR
VERSION:2.0
PRODID:-//ChamberMaster//Event Calendar 2.0//EN
METHOD:PUBLISH
X-PUBLISHED-TTL:P3D
REFRESH-INTERVAL:P3D
CALSCALE:GREGORIAN
BEGIN:VEVENT
DTSTART:20211104T130000Z
DTEND:20211104T140000Z
X-MICROSOFT-CDO-ALLDAYEVENT:FALSE
SUMMARY:2021 Wrap Up ~ Quarterly Meeting
DESCRIPTION:Join us for the final Quarterly Chamber Breakfast\, where we "Wrap Up" 2021 and finish strong!  Here are the three areas that will be covered during our time together. \n\n \n\n	 Shop where your heart is\, our "shop local" campaign.\n	\n		Presentation & Discussion with our community.\n	\n	\n\n \n\n\n	The gift of vision for our community\n\n	\n		2030 Survey results reviewed & top proprieties revealed.\n	\n	\n\n \n\n\n	 Chamber gives their end of the year report which includes:\n\n	\n		Economic Development Vision\n		Status for Wyatt Earp Park
X-ALT-DESC;FMTTYPE=text/html:<span style="font-size:14px\;"><span style="font-family:arial\;">Join us for the final Quarterly Chamber Breakfast\, where we &quot\;Wrap Up&quot\; 2021 and finish strong!&nbsp\; Here are the three areas that will be covered during our time together.&nbsp\;</span></span><br />\n&nbsp\;\n<ul style="padding: 0px 40px\; color: rgb(51\, 51\, 51)\; font-family: sans-serif\, Arial\, Verdana\, &quot\;Trebuchet MS&quot\;\; font-size: 13px\;">\n	<li style="line-height: normal\;"><span style="font-size:14px\;"><span style="font-family:arial\;">&nbsp\;Shop where your heart is\, our &ldquo\;shop local&rdquo\; campaign.</span></span>\n	<ul style="padding: 0px 40px\;">\n		<li style="line-height: normal\;"><span style="font-size:14px\;"><span style="font-family:arial\;">Presentation &amp\; Discussion with our community.</span></span></li>\n	</ul>\n	</li>\n</ul>\n&nbsp\;\n\n<ul style="padding: 0px 40px\; color: rgb(51\, 51\, 51)\; font-family: sans-serif\, Arial\, Verdana\, &quot\;Trebuchet MS&quot\;\; font-size: 13px\;">\n	<li><span style="font-size:14px\;"><span style="font-family:arial\;">The gift of vision for our community</span></span>\n\n	<ul style="padding: 0px 40px\;">\n		<li><span style="font-size:14px\;"><span style="font-family:arial\;">2030 Survey results reviewed &amp\; top proprieties revealed.</span></span></li>\n	</ul>\n	</li>\n</ul>\n<span style="font-size:14px\;"><span style="font-family:arial\;">&nbsp\;</span></span>\n\n<ul style="padding: 0px 40px\; color: rgb(51\, 51\, 51)\; font-family: sans-serif\, Arial\, Verdana\, &quot\;Trebuchet MS&quot\;\; font-size: 13px\;">\n	<li style="line-height: normal\;"><span style="font-size:14px\;"><span style="font-family:arial\;">&nbsp\;Chamber gives their end of the year report which includes:</span></span>\n\n	<ul style="padding: 0px 40px\;">\n		<li style="line-height: normal\;"><span style="font-size:14px\;"><span style="font-family:arial\;">Economic Development Vision</span></span></li>\n		<li style="line-height: normal\;"><span style="font-size:14px\;"><span style="font-family:arial\;">Status for Wyatt Earp Park</span></span></li>\n	</ul>\n	</li>\n</ul>\n
LOCATION:Barton County Ambulance District Building 1100 Cherry Street\, Lamar\, MO 64759
UID:e.2297.383
SEQUENCE:3
DTSTAMP:20260422T083335Z
URL:https://business.bartoncounty.com/events/details/2021-wrap-up-quarterly-meeting-383
END:VEVENT

END:VCALENDAR
