BEGIN:VCALENDAR
VERSION:2.0
PRODID:-//ChamberMaster//Event Calendar 2.0//EN
METHOD:PUBLISH
X-PUBLISHED-TTL:P3D
REFRESH-INTERVAL:P3D
CALSCALE:GREGORIAN
BEGIN:VEVENT
DTSTART:20181213T220000Z
DTEND:20181214T020000Z
X-MICROSOFT-CDO-ALLDAYEVENT:FALSE
SUMMARY:2018 Christmas Parade & Jingle Mingle
DESCRIPTION:2018 CHRISTMAS PARADE & Jingle Mingle\n\nCome out to enjoy our annual Lighted Christmas Parade ending with Santa's arrival at Memorial Hall where he & Mrs. Claus will meet with area children and hear their Christmas wishes!  \n\n\n\nParade participation DOES NOT REQUIRE REGISTRATION simply show up at Moore Pavilion by 5:30 pm to line up.   Parade  begins at 6:00 pm.  Please remember\, this is a LIGHTED parade. Your float won't be seen without lights so come prepared!\n\n\n\nJINGLE MINGLE\n\nAlso - be sure not to miss this year's "Jingle Mingle" a great chance to do some Christmas shopping with some of our Chamber Members as well & keep your money HOME (local) for the holidays!\n\n\n\n\nRegister now to take part in the Jingle Mingle!\n\nDetails on how you can participate are located in our downloadable pdf \n\nJingle Mingle Flyer
X-ALT-DESC;FMTTYPE=text/html:<p><span style="font-size:16px\;"><span style="color:#FF0000\;"><strong>2018 CHRISTMAS PARADE &amp\; Jingle Mingle</strong></span></span><br />\nCome out to enjoy our annual Lighted Christmas Parade ending with Santa&#39\;s arrival at Memorial Hall where he &amp\; Mrs. Claus will meet with area children and hear their Christmas wishes! &nbsp\;<br />\n<br />\nParade participation DOES NOT REQUIRE REGISTRATION simply show up at Moore Pavilion by 5:30 pm to line up. &nbsp\; Parade &nbsp\;begins at 6:00 pm. &nbsp\;Please remember\, this is a LIGHTED parade. Your float won&#39\;t be seen without lights so come prepared!<br />\n<br />\n<span style="font-size:16px\;"><span style="color:#008000\;"><strong>JINGLE MINGLE</strong></span></span><br />\nAlso - be sure not to miss this year&#39\;s &quot\;Jingle Mingle&quot\; a great chance to do some Christmas shopping with some of our Chamber Members as well &amp\; keep your money HOME (local) for the holidays!</p>\n\n<div style="background:#eee\;border:1px solid #ccc\;padding:5px 10px\;">\n<p style="text-align: center\; margin:0px\; pixel:0px\;"><br />\n<strong>Register now to take part in the Jingle Mingle!</strong></p>\n\n<p style="text-align: center\; margin:0px\; pixel:0px\;">Details on how you can participate&nbsp\;are located in our downloadable pdf&nbsp\;<br />\n<strong><a href="https://chambermaster.blob.core.windows.net/userfiles/UserFiles/chambers/2297/File/Jingle-Mingle-2018.pdf">Jingle Mingle Flyer</a> </strong></p>\n\n<p style="text-align: center\; margin:0px\; pixel:0px\;">&nbsp\;</p>\n</div>\n\n<p>&nbsp\;</p>\n
LOCATION:Constitution Square Downtown Lamar\, MO
UID:e.2297.315
SEQUENCE:3
DTSTAMP:20260423T182753Z
URL:https://business.bartoncounty.com/events/details/2018-christmas-parade-jingle-mingle-315
END:VEVENT

END:VCALENDAR
