BEGIN:VCALENDAR
VERSION:2.0
PRODID:-//ChamberMaster//Event Calendar 2.0//EN
METHOD:PUBLISH
X-PUBLISHED-TTL:P3D
REFRESH-INTERVAL:P3D
CALSCALE:GREGORIAN
BEGIN:VEVENT
DTSTART:20180420T163000Z
DTEND:20180420T180000Z
X-MICROSOFT-CDO-ALLDAYEVENT:FALSE
SUMMARY:2018 Awards Luncheon
DESCRIPTION:Join 200+ of the area's business leaders on April 20th at 11:30 am for a delicious lunch & exciting awards show. \n\n\n\n\nCome ready to network and socialize with friends\, neighbors\, community leaders & celebrate the very best in Barton County!\n\n\n\n\n\n\nLocation: Memorial Hall \n\n1100 Broadway\n\nLamar\, MO 64759\n\n\n\n\n \n\n\n\n\nDate/Time Information:\n\n\n\n\nApril 20th 2018\n\n11:30 am - 1:00 pm \n\nFees / Admissions\n\n$25 each & tables seat 8.\n\nSeating is first come/first serve\n\n \n\n\n\n\n\n\nWhat\n to Wear: \n\nBusiness Casual\n\n\n\n\n\n\n\n2018 Nominees:\n\n\n\nBusiness of the Year:\n\nCap's Cabin Restaurant\n\nMcFadden Land and Title\n\nThe Emporium Donut Shop & Restaurant\n\n\n\nHealthcare Provider of the Year:\n\nDr. Wilson-Cox Barton County Hospital\n\nDr. Erica Burton-Vision Solutions\n\nJennifer Choate-Cox Barton County Hospital\n\n\n\nVolunteer Spirit of the Year:\n\nGreg Clements\n\nSandy Stansberry\n\nTom Shields\n\n\n\nEmployee of the Year:\n\nBryan Hartgrave -Vision Solutions\n\nChristine Fast - Seed & Farm Supply Inc\n\nMary Jo Mincks - Cox Barton County Hospital\n\nMike Main - USPS\n\n\n\nTruman Award:\n\nJay Stahl\n\nLarry Beatty\n\nWendy Duvall
X-ALT-DESC;FMTTYPE=text/html:<div>\n<div style="line-height: 20.8px\;"><span style="font-size:14px\;"><span style="font-family:arial\;"><span style="line-height: 17.92px\;">Join 200+ of the area&#39\;s business leaders on April 20th&nbsp\;at 11:30 am&nbsp\;for a delicious lunch&nbsp\;</span><span style="line-height: 17.92px\;">&amp\; exciting awards&nbsp\;show.&nbsp\;</span></span></span></div>\n\n<div style="line-height: 20.8px\;">\n<div style="line-height: 18.9091px\;"><br style="color: rgb(20\, 24\, 35)\; font-family: Helvetica\, Arial\, 'lucida grande'\, tahoma\, verdana\, arial\, sans-serif\; font-size: 14px\; line-height: 17.92px\;" />\n<span style="font-size:14px\;"><span style="font-family:arial\;"><span style="line-height: 17.92px\;">Come ready to network and socialize with friends\, neighbors\, community leaders &amp\; celebrate the very best in Barton County!</span></span></span></div>\n</div>\n</div>\n\n<div>\n<div style="line-height: 18.9091px\;">\n<div class="mn-event-section mn-event-location" style="box-sizing: content-box\; bottom: auto\; clear: none\; color: rgb(102\, 102\, 102)\; content: normal\; direction: inherit\; empty-cells: show\; float: none\; font-stretch: inherit\; font-family: Roboto\, sans-serif\; left: auto\; line-height: 16.9px\; margin: 16px 0px\; max-height: none\; max-width: none\; min-height: initial\; min-width: initial\; opacity: 1\; outline: invert none medium\; outline-offset: 0px\; overflow: visible\; padding: 0px\; position: static\; resize: none\; right: auto\; table-layout: auto\; text-overflow: clip\; top: auto\; vertical-align: baseline\; visibility: inherit\; word-break: inherit\; word-wrap: inherit\; z-index: auto\; border: none\; border-collapse: separate\; border-image-source: none\; border-image-slice: 100% 1 0\; border-image-repeat: stretch\; border-radius: 0px\; height: auto\; width: auto\; box-shadow: none\; background-image: none\; background-attachment: initial\; background-size: initial\; background-origin: initial\; background-clip: initial\; background-position: initial\; background-repeat: initial\;">\n<div class="mn-event-head" style="box-sizing: content-box\; bottom: auto\; clear: none\; color: rgb(126\, 84\, 144)\; content: normal\; direction: inherit\; display: inline\; empty-cells: show\; float: none\; font-style: inherit\; font-variant: inherit\; font-weight: 700\; font-stretch: inherit\; font-size: 15.6px\; font-family: inherit\; left: auto\; letter-spacing: inherit\; line-height: inherit\; margin: 0px\; max-height: none\; max-width: none\; min-height: initial\; min-width: initial\; opacity: 1\; outline: invert none medium\; outline-offset: 0px\; overflow: visible\; padding: 0px\; position: static\; resize: none\; right: auto\; table-layout: auto\; text-align: inherit\; text-indent: inherit\; text-overflow: clip\; text-transform: inherit\; top: auto\; vertical-align: baseline\; visibility: inherit\; white-space: inherit\; word-break: inherit\; word-spacing: inherit\; word-wrap: inherit\; z-index: auto\; border: none\; border-collapse: separate\; border-image-source: none\; border-image-slice: 100% 1 0\; border-image-repeat: stretch\; border-radius: 0px\; height: auto\; width: auto\; box-shadow: none\; background: none\;">Location: Memorial Hall&nbsp\;<br />\n<span style="color: rgb(84\, 84\, 84)\; font-family: Roboto\, arial\, sans-serif\; font-size: small\; background-color: rgb(255\, 255\, 255)\;">1100 Broadway<br />\nLamar\, MO 64759</span></div>\n</div>\n\n<div class="mn-event-section mn-event-location" style="background-image: none\; background-position: initial\; background-size: initial\; background-repeat: initial\; background-attachment: initial\; background-origin: initial\; background-clip: initial\; box-sizing: content-box\; bottom: auto\; clear: none\; color: rgb(102\, 102\, 102)\; content: normal\; direction: inherit\; empty-cells: show\; float: none\; font-stretch: inherit\; font-family: Roboto\, sans-serif\; left: auto\; line-height: 16.9px\; margin: 16px 0px\; max-height: none\; max-width: none\; min-height: initial\; min-width: initial\; opacity: 1\; outline-offset: 0px\; overflow: visible\; padding: 0px\; position: static\; resize: none\; right: auto\; table-layout: auto\; text-overflow: clip\; top: auto\; vertical-align: baseline\; visibility: inherit\; word-break: inherit\; word-wrap: inherit\; z-index: auto\; border: none\; border-collapse: separate\; border-radius: 0px\; height: auto\; width: auto\; box-shadow: none\;">\n<div class="mn-event-content" style="box-sizing: content-box\; bottom: auto\; clear: none\; color: inherit\; content: normal\; direction: inherit\; empty-cells: show\; float: none\; font-style: inherit\; font-variant: inherit\; font-weight: inherit\; font-stretch: inherit\; font-size: inherit\; font-family: inherit\; left: auto\; letter-spacing: inherit\; line-height: inherit\; margin: 0px\; max-height: none\; max-width: none\; min-height: initial\; min-width: initial\; opacity: 1\; outline-offset: 0px\; overflow: visible\; padding: 0px\; position: static\; resize: none\; right: auto\; table-layout: auto\; text-align: inherit\; text-indent: inherit\; text-overflow: clip\; text-transform: inherit\; top: auto\; vertical-align: baseline\; visibility: inherit\; white-space: inherit\; word-break: inherit\; word-spacing: inherit\; word-wrap: inherit\; z-index: auto\; border: none\; border-collapse: separate\; border-radius: 0px\; height: auto\; width: auto\; box-shadow: none\; background: none\;">\n<div class="mn-raw mn-print-url" style="box-sizing: content-box\; bottom: auto\; clear: none\; color: inherit\; content: normal\; direction: inherit\; empty-cells: show\; float: none\; font-style: inherit\; font-variant: inherit\; font-weight: inherit\; font-stretch: inherit\; font-size: inherit\; font-family: inherit\; left: auto\; letter-spacing: inherit\; line-height: 1.3\; margin: 0px\; max-height: none\; max-width: none\; min-height: initial\; min-width: initial\; opacity: 1\; outline-offset: 0px\; overflow: visible\; padding: 0px\; position: static\; resize: none\; right: auto\; table-layout: auto\; text-align: inherit\; text-indent: inherit\; text-overflow: clip\; text-transform: inherit\; top: auto\; vertical-align: baseline\; visibility: inherit\; white-space: inherit\; word-break: inherit\; word-spacing: inherit\; word-wrap: break-word\; z-index: auto\; border: none\; border-collapse: separate\; border-radius: 0px\; height: auto\; width: auto\; box-shadow: none\; background: none\;">&nbsp\;</div>\n</div>\n</div>\n\n<div class="mn-event-section mn-event-hours" style="background-image: none\; background-position: initial\; background-size: initial\; background-repeat: initial\; background-attachment: initial\; background-origin: initial\; background-clip: initial\; box-sizing: content-box\; bottom: auto\; clear: none\; color: rgb(102\, 102\, 102)\; content: normal\; direction: inherit\; empty-cells: show\; float: none\; font-stretch: inherit\; font-family: Roboto\, sans-serif\; left: auto\; line-height: 16.9px\; margin: 16px 0px\; max-height: none\; max-width: none\; min-height: initial\; min-width: initial\; opacity: 1\; outline-offset: 0px\; overflow: visible\; padding: 0px\; position: static\; resize: none\; right: auto\; table-layout: auto\; text-overflow: clip\; top: auto\; vertical-align: baseline\; visibility: inherit\; word-break: inherit\; word-wrap: inherit\; z-index: auto\; border: none\; border-collapse: separate\; border-radius: 0px\; height: auto\; width: auto\; box-shadow: none\;">\n<div class="mn-event-head" style="box-sizing: content-box\; bottom: auto\; clear: none\; color: rgb(126\, 84\, 144)\; content: normal\; direction: inherit\; display: inline\; empty-cells: show\; float: none\; font-style: inherit\; font-variant: inherit\; font-weight: 700\; font-stretch: inherit\; font-size: 15.6px\; font-family: inherit\; left: auto\; letter-spacing: inherit\; line-height: inherit\; margin: 0px\; max-height: none\; max-width: none\; min-height: initial\; min-width: initial\; opacity: 1\; outline-offset: 0px\; overflow: visible\; padding: 0px\; position: static\; resize: none\; right: auto\; table-layout: auto\; text-align: inherit\; text-indent: inherit\; text-overflow: clip\; text-transform: inherit\; top: auto\; vertical-align: baseline\; visibility: inherit\; white-space: inherit\; word-break: inherit\; word-spacing: inherit\; word-wrap: inherit\; z-index: auto\; border: none\; border-collapse: separate\; border-radius: 0px\; height: auto\; width: auto\; box-shadow: none\; background: none\;">Date/Time Information:</div>\n\n<div class="mn-event-content" style="box-sizing: content-box\; bottom: auto\; clear: none\; color: inherit\; content: normal\; direction: inherit\; empty-cells: show\; float: none\; font-style: inherit\; font-variant: inherit\; font-weight: inherit\; font-stretch: inherit\; font-size: inherit\; font-family: inherit\; left: auto\; letter-spacing: inherit\; line-height: inherit\; margin: 0px\; max-height: none\; max-width: none\; min-height: initial\; min-width: initial\; opacity: 1\; outline-offset: 0px\; overflow: visible\; padding: 0px\; position: static\; resize: none\; right: auto\; table-layout: auto\; text-align: inherit\; text-indent: inherit\; text-overflow: clip\; text-transform: inherit\; top: auto\; vertical-align: baseline\; visibility: inherit\; white-space: inherit\; word-break: inherit\; word-spacing: inherit\; word-wrap: inherit\; z-index: auto\; border: none\; border-collapse: separate\; border-radius: 0px\; height: auto\; width: auto\; box-shadow: none\; background: none\;">\n<div class="mn-raw mn-print-url" style="box-sizing: content-box\; bottom: auto\; clear: none\; color: inherit\; content: normal\; direction: inherit\; empty-cells: show\; float: none\; font-style: inherit\; font-variant: inherit\; font-weight: inherit\; font-stretch: inherit\; font-size: inherit\; font-family: inherit\; left: auto\; letter-spacing: inherit\; line-height: 1.3\; margin: 0px\; max-height: none\; max-width: none\; min-height: initial\; min-width: initial\; opacity: 1\; outline-offset: 0px\; overflow: visible\; padding: 0px\; position: static\; resize: none\; right: auto\; table-layout: auto\; text-align: inherit\; text-indent: inherit\; text-overflow: clip\; text-transform: inherit\; top: auto\; vertical-align: baseline\; visibility: inherit\; white-space: inherit\; word-break: inherit\; word-spacing: inherit\; word-wrap: break-word\; z-index: auto\; border: none\; border-collapse: separate\; border-radius: 0px\; height: auto\; width: auto\; box-shadow: none\; background: none\;">\n<div class="mn-event-content" style="box-sizing: content-box\; bottom: auto\; clear: none\; content: normal\; direction: inherit\; empty-cells: show\; float: none\; font-stretch: inherit\; left: auto\; line-height: 16.9px\; margin: 0px\; max-height: none\; max-width: none\; min-height: initial\; min-width: initial\; opacity: 1\; outline-offset: 0px\; overflow: visible\; padding: 0px\; position: static\; resize: none\; right: auto\; table-layout: auto\; text-overflow: clip\; top: auto\; vertical-align: baseline\; visibility: inherit\; word-break: inherit\; word-wrap: inherit\; z-index: auto\; border: none\; border-collapse: separate\; border-radius: 0px\; height: auto\; width: auto\; box-shadow: none\; background-image: none\; background-attachment: initial\; background-size: initial\; background-origin: initial\; background-clip: initial\; background-position: initial\; background-repeat: initial\;">\n<div class="mn-raw mn-print-url" style="box-sizing: content-box\; bottom: auto\; clear: none\; color: inherit\; content: normal\; direction: inherit\; empty-cells: show\; float: none\; font-style: inherit\; font-variant: inherit\; font-weight: inherit\; font-stretch: inherit\; font-size: inherit\; font-family: inherit\; left: auto\; letter-spacing: inherit\; line-height: 1.3\; margin: 0px\; max-height: none\; max-width: none\; min-height: initial\; min-width: initial\; opacity: 1\; outline-offset: 0px\; overflow: visible\; padding: 0px\; position: static\; resize: none\; right: auto\; table-layout: auto\; text-align: inherit\; text-indent: inherit\; text-overflow: clip\; text-transform: inherit\; top: auto\; vertical-align: baseline\; visibility: inherit\; white-space: inherit\; word-break: inherit\; word-spacing: inherit\; word-wrap: break-word\; z-index: auto\; border: none\; border-collapse: separate\; border-radius: 0px\; height: auto\; width: auto\; box-shadow: none\; background: none\;">April 20th&nbsp\;2018<br />\n11:30 am - 1:00 pm&nbsp\;<br />\nFees / Admissions<br />\n$25&nbsp\;each &amp\; tables seat 8.<br style="box-sizing: content-box\; bottom: auto\; clear: none\; color: inherit\; content: normal\; direction: inherit\; display: inline\; empty-cells: show\; float: none\; font-style: inherit\; font-variant: inherit\; font-weight: inherit\; font-stretch: inherit\; font-size: inherit\; font-family: inherit\; left: auto\; letter-spacing: inherit\; line-height: inherit\; margin: 0px\; max-height: none\; max-width: none\; min-height: initial\; min-width: initial\; opacity: 1\; outline-offset: 0px\; overflow: visible\; padding: 0px\; position: static\; resize: none\; right: auto\; table-layout: auto\; text-align: inherit\; text-indent: inherit\; text-overflow: clip\; text-transform: inherit\; top: auto\; vertical-align: baseline\; visibility: inherit\; white-space: inherit\; word-break: inherit\; word-spacing: inherit\; word-wrap: inherit\; z-index: auto\; border: none\; border-collapse: separate\; border-radius: 0px\; height: auto\; width: auto\; background: none\;" />\nSeating is first come/first serve<br />\n&nbsp\;</div>\n</div>\n</div>\n</div>\n</div>\n\n<div class="mn-event-section mn-event-location" style="box-sizing: content-box\; bottom: auto\; clear: none\; color: rgb(102\, 102\, 102)\; content: normal\; direction: inherit\; empty-cells: show\; float: none\; font-stretch: inherit\; font-family: Roboto\, sans-serif\; left: auto\; line-height: 16.9px\; margin: 16px 0px\; max-height: none\; max-width: none\; min-height: initial\; min-width: initial\; opacity: 1\; outline: invert none medium\; outline-offset: 0px\; overflow: visible\; padding: 0px\; position: static\; resize: none\; right: auto\; table-layout: auto\; text-overflow: clip\; top: auto\; vertical-align: baseline\; visibility: inherit\; word-break: inherit\; word-wrap: inherit\; z-index: auto\; border: none\; border-collapse: separate\; border-image-source: none\; border-image-slice: 100% 1 0\; border-image-repeat: stretch\; border-radius: 0px\; height: auto\; width: auto\; box-shadow: none\; background-image: none\; background-attachment: initial\; background-size: initial\; background-origin: initial\; background-clip: initial\; background-position: initial\; background-repeat: initial\;">\n<div class="mn-event-head" style="box-sizing: content-box\; bottom: auto\; clear: none\; color: rgb(126\, 84\, 144)\; content: normal\; direction: inherit\; display: inline\; empty-cells: show\; float: none\; font-style: inherit\; font-variant: inherit\; font-weight: 700\; font-stretch: inherit\; font-size: 15.6px\; font-family: inherit\; left: auto\; letter-spacing: inherit\; line-height: inherit\; margin: 0px\; max-height: none\; max-width: none\; min-height: initial\; min-width: initial\; opacity: 1\; outline: invert none medium\; outline-offset: 0px\; overflow: visible\; padding: 0px\; position: static\; resize: none\; right: auto\; table-layout: auto\; text-align: inherit\; text-indent: inherit\; text-overflow: clip\; text-transform: inherit\; top: auto\; vertical-align: baseline\; visibility: inherit\; white-space: inherit\; word-break: inherit\; word-spacing: inherit\; word-wrap: inherit\; z-index: auto\; border: none\; border-collapse: separate\; border-image-source: none\; border-image-slice: 100% 1 0\; border-image-repeat: stretch\; border-radius: 0px\; height: auto\; width: auto\; box-shadow: none\; background: none\;"><span style="background-color: initial\; font-family: inherit\; font-style: inherit\; font-variant-ligatures: inherit\; font-variant-caps: inherit\; letter-spacing: inherit\; text-align: inherit\; text-indent: inherit\; text-transform: inherit\; white-space: inherit\; word-spacing: inherit\;">What</span></div>\n<span style="color: rgb(126\, 84\, 144)\; font-size: 15.6px\; font-weight: bold\; font-style: inherit\; font-variant-ligatures: inherit\; font-variant-caps: inherit\; letter-spacing: inherit\; text-align: inherit\; text-indent: inherit\; text-transform: inherit\; white-space: inherit\; word-spacing: inherit\;">&nbsp\;to Wear:&#8203\;</span><br />\n<span style="background-color: initial\; color: inherit\; font-family: inherit\; font-size: inherit\; font-style: inherit\; font-variant-ligatures: inherit\; font-variant-caps: inherit\; font-weight: inherit\; letter-spacing: inherit\; text-align: inherit\; text-indent: inherit\; text-transform: inherit\; white-space: inherit\; word-spacing: inherit\;">Business Casual</span></div>\n\n<div class="mn-event-section mn-event-hours" style="box-sizing: content-box\; bottom: auto\; clear: none\; content: normal\; direction: inherit\; empty-cells: show\; float: none\; font-stretch: inherit\; font-family: Roboto\, sans-serif\; left: auto\; line-height: 16.9px\; margin: 16px 0px\; max-height: none\; max-width: none\; min-height: initial\; min-width: initial\; opacity: 1\; outline-offset: 0px\; overflow: visible\; padding: 0px\; position: static\; resize: none\; right: auto\; table-layout: auto\; text-overflow: clip\; top: auto\; vertical-align: baseline\; visibility: inherit\; word-break: inherit\; word-wrap: inherit\; z-index: auto\; border: none\; border-collapse: separate\; border-radius: 0px\; height: auto\; width: auto\; box-shadow: none\; background-image: none\; background-attachment: initial\; background-size: initial\; background-origin: initial\; background-clip: initial\; background-position: initial\; background-repeat: initial\;">\n<div class="mn-event-content" style="box-sizing: content-box\; bottom: auto\; clear: none\; content: normal\; direction: inherit\; empty-cells: show\; float: none\; font-style: inherit\; font-variant: inherit\; font-stretch: inherit\; font-family: inherit\; left: auto\; letter-spacing: inherit\; line-height: inherit\; margin: 0px\; max-height: none\; max-width: none\; min-height: initial\; min-width: initial\; opacity: 1\; outline-offset: 0px\; overflow: visible\; padding: 0px\; position: static\; resize: none\; right: auto\; table-layout: auto\; text-align: inherit\; text-indent: inherit\; text-overflow: clip\; text-transform: inherit\; top: auto\; vertical-align: baseline\; visibility: inherit\; white-space: inherit\; word-break: inherit\; word-spacing: inherit\; word-wrap: inherit\; z-index: auto\; border: none\; border-collapse: separate\; border-radius: 0px\; height: auto\; width: auto\; box-shadow: none\; background: none\;">\n<div class="mn-raw mn-print-url" style="box-sizing: content-box\; bottom: auto\; clear: none\; content: normal\; direction: inherit\; empty-cells: show\; float: none\; font-style: inherit\; font-variant: inherit\; font-stretch: inherit\; font-family: inherit\; left: auto\; letter-spacing: inherit\; line-height: 1.3\; margin: 0px\; max-height: none\; max-width: none\; min-height: initial\; min-width: initial\; opacity: 1\; outline-offset: 0px\; overflow: visible\; padding: 0px\; position: static\; resize: none\; right: auto\; table-layout: auto\; text-align: inherit\; text-indent: inherit\; text-overflow: clip\; text-transform: inherit\; top: auto\; vertical-align: baseline\; visibility: inherit\; white-space: inherit\; word-break: inherit\; word-spacing: inherit\; word-wrap: break-word\; z-index: auto\; border: none\; border-collapse: separate\; border-radius: 0px\; height: auto\; width: auto\; box-shadow: none\; background: none\;">\n<div class="mn-event-content" style="box-sizing: content-box\; bottom: auto\; clear: none\; content: normal\; direction: inherit\; empty-cells: show\; float: none\; font-stretch: inherit\; font-family: Roboto\, sans-serif\; left: auto\; line-height: 16.9px\; margin: 0px\; max-height: none\; max-width: none\; min-height: initial\; min-width: initial\; opacity: 1\; outline-offset: 0px\; overflow: visible\; padding: 0px\; position: static\; resize: none\; right: auto\; table-layout: auto\; text-overflow: clip\; top: auto\; vertical-align: baseline\; visibility: inherit\; word-break: inherit\; word-wrap: inherit\; z-index: auto\; border: none\; border-collapse: separate\; border-radius: 0px\; height: auto\; width: auto\; box-shadow: none\; background-image: none\; background-attachment: initial\; background-size: initial\; background-origin: initial\; background-clip: initial\; background-position: initial\; background-repeat: initial\;">\n<div class="mn-raw mn-print-url" style="box-sizing: content-box\; bottom: auto\; clear: none\; content: normal\; direction: inherit\; empty-cells: show\; float: none\; font-style: inherit\; font-variant: inherit\; font-stretch: inherit\; font-family: inherit\; left: auto\; letter-spacing: inherit\; line-height: 1.3\; margin: 0px\; max-height: none\; max-width: none\; min-height: initial\; min-width: initial\; opacity: 1\; outline-offset: 0px\; overflow: visible\; padding: 0px\; position: static\; resize: none\; right: auto\; table-layout: auto\; text-align: inherit\; text-indent: inherit\; text-overflow: clip\; text-transform: inherit\; top: auto\; vertical-align: baseline\; visibility: inherit\; white-space: inherit\; word-break: inherit\; word-spacing: inherit\; word-wrap: break-word\; z-index: auto\; border: none\; border-collapse: separate\; border-radius: 0px\; height: auto\; width: auto\; box-shadow: none\; background: none\;"><br />\n<span style="color: rgb(126\, 84\, 144)\; font-size: 15.6px\; font-weight: bold\;">2018 Nominees:</span><br />\n<br />\n<strong><u><span style="font-size:14px\;">Business of the Year:</span></u></strong><br />\n<span style="color: inherit\; font-size: inherit\; font-weight: inherit\;">Cap&#39\;s Cabin Restaurant<br />\nMcFadden Land and Title<br />\nThe Emporium&nbsp\;Donut Shop &amp\; Restaurant<br />\n<br />\n<strong><u><span style="font-size:14px\;">Healthcare Provider of the Year:</span></u></strong><br />\nDr. Wilson-Cox Barton County Hospital<br />\nDr. Erica Burton-Vision Solutions<br />\nJennifer Choate-Cox Barton County Hospital<br />\n<br />\n<span style="font-size:14px\;"><strong><u>Volunteer Spirit of the Year:</u></strong></span><br />\nGreg Clements<br />\nSandy Stansberry<br />\nTom Shields<br />\n<br />\n<strong><u><span style="font-size:14px\;">Employee of the Year:</span></u></strong><br />\nBryan Hartgrave -Vision Solutions<br />\nChristine Fast - Seed &amp\; Farm Supply Inc<br />\nMary Jo Mincks - Cox Barton County Hospital<br />\nMike Main - USPS<br />\n<br />\n<span style="font-size:14px\;"><strong><u>Truman Award:</u></strong></span><br />\nJay Stahl<br />\nLarry Beatty<br />\nWendy Duvall</span><br />\n&nbsp\;</div>\n</div>\n</div>\n</div>\n</div>\n</div>\n</div>\n
LOCATION:Memorial Hall 1100 Broadway Lamar\, Missouri 64759
UID:e.2297.296
SEQUENCE:3
DTSTAMP:20260424T064859Z
URL:https://business.bartoncounty.com/events/details/2018-awards-luncheon-296
END:VEVENT

END:VCALENDAR
